BEGIN:VCALENDAR
VERSION:2.0
PRODID:-//The Fund for Irish Studies at Princeton University - ECPv6.6.4.2//NONSGML v1.0//EN
CALSCALE:GREGORIAN
METHOD:PUBLISH
X-ORIGINAL-URL:https://fis.princeton.edu
X-WR-CALDESC:Events for The Fund for Irish Studies at Princeton University
REFRESH-INTERVAL;VALUE=DURATION:PT1H
X-Robots-Tag:noindex
X-PUBLISHED-TTL:PT1H
BEGIN:VTIMEZONE
TZID:America/New_York
BEGIN:DAYLIGHT
TZOFFSETFROM:-0500
TZOFFSETTO:-0400
TZNAME:EDT
DTSTART:20250309T070000
END:DAYLIGHT
BEGIN:STANDARD
TZOFFSETFROM:-0400
TZOFFSETTO:-0500
TZNAME:EST
DTSTART:20251102T060000
END:STANDARD
END:VTIMEZONE
BEGIN:VEVENT
DTSTART;TZID=America/New_York:20250221T163000
DTEND;TZID=America/New_York:20250221T180000
DTSTAMP:20260425T163503
CREATED:20250107T155345Z
LAST-MODIFIED:20250127T162304Z
UID:1803-1740155400-1740160800@fis.princeton.edu
SUMMARY:Reading by Colm Tóibín
DESCRIPTION:International bestselling and award-winning writer Colm Tóibín reads from his work as part of the 2024-25 Fund for Irish Studies Series. Tóibín is the author of 11 novels including Long Island\, The Heather Blazing\, Nora Webster\, House of Names\, The Blackwater Lightship (shortlisted for the BookerPrize)\, The Master\, and Brooklyn\, which was made into a film starring Saoirse Ronan that garnered four Academy Award nominations\, including Best Picture. \nThe Fund for Irish Studies Series is co-chaired by Jane Cox\, Director of Princeton’s Program in Theater & Music Theater\, and Robert Spoo\, Princeton’s Leonard L. Milberg ’53 Professor in Irish Letters. \nTickets & Details\nTickets for the reading are currently sold out. \nDirections\nGet directions to the James Stewart Film Theater\, located on the first floor at 185 Nassau Street. \nAccessibility\nThe James Stewart Film Theater is an accessible venue. Visit our Venues and Studios section for accessibility information at our various locations. Guests in need of access accommodations are invited to contact the Lewis Center at 609-258-5262 or email LewisCenter@princeton.edu at least one week in advance of the event date. \nAbout Colm Tóibín\nPhoto credit: Reynaldo Rivera\nThe Irish writer Colm Tóibín grew up in a home where\, he once said\, there was “a great deal of silence”. He has since made a career of talking to the world through his many volumes of fiction and non-fiction\, drama\, and poetry. \nThe newest of Tóibín’s eleven novels is Long Island (Simon & Schuster\, May 7\, 2024). A New York Times bestseller\, the book was chosen for Oprah’s Book Club and received star reviews from Kirkus\, Publishers Weekly\, and Booklist. In their rave review the Star Tribune called the novel “a wonder\, rich with yearning and regret.” Long Island continues the story of Eilis Lacey\, first introduced in his acclaimed novel Brooklyn. \nAn international bestseller\, Brooklyn is the unforgettable story a young Irish immigrant and the complications surrounding love and family which she finds in the early 1950s. Brooklyn was given the Costa Novel Award\, while The Observer named it one of “The 10 best historical novels.” In 2019\, the book was ranked 51st on The Guardian‘s list of the 100 best books of the 21st century. In 2015\, Tóibín’s celebrated novel was turned into a film starring Saoirse Ronan which garnered four Academy Award nominations\, including Best Picture. \nTóibín is also the author of The Heather Blazing\, Nora Webster\, House of Names\, and The Blackwater Lightship. The latter was shortlisted for the IMPAC Dublin Prize and the Booker Prize\, and it was later made into a film starring Angela Lansbury. \nHis fifth novel\, The Master\, is a fictional account of the inner life of the American writer Henry James. It was awarded the International Dublin Literary Award\, Los Angeles Times Book Prize for Fiction\, Stonewall Book Award\, and Lambda Literary Award. The New Yorker noted the novel’s portrait of a creative mind at work struck other writers as uncanny\, while Cynthia Ozick praised Tóibín’s “writer’s wizardry.” Tóibín’s devotion to James led him to author All A Novelist Needs: Colm Tóibín on Henry James\, a collection of critical essays. \nMore recently\, Tóibín’s longtime interest in the German writer Thomas Mann led him to write The Magician\, a New York Times Notable Book which was named the Best Book of the Year by NPR\, Washington Post\, and Wall Street Journal. Time magazine stated\, Tóibín had crafted “a complex but empathetic portrayal of a writer in a lifelong battle against his innermost desires\, his family\, and the tumultuous times they endure.” The Magician was given the Rathbones Folio Prize. \nTóibín’s literary conversation with the world explores a number of significant themes: the nature of Irish society\, living in exile\, the legacy of Catholicism\, the process of creativity\, and the preservation of personal identity\, especially when confronted by loss. \nColm Tóibín (pronounced “cuh-lem toe-bean”) is many things—not only a novelist\, but also a short story writer\, essayist\, journalist\, critic\, playwright and poet. Among his works of non-fiction are The Modern Library: the 200 Best Novels Since 1950 (with Carmen Callil)\, a book on the Irish revival\, Lady Gregory’s Toothbrush\, New Ways to Kill Your Mother: Writers and Their Families\, Love in a Dark Time: And Other Explorations of Gay Lives and Literature\, and A Guest at the Feast: Essays. His 2015 book\, On Elizabeth Bishop\, was a finalist for the National Book Critics Circle Award for Criticism. Among the books he has edited is The Penguin Book of Irish Fiction. His book of poetry is titled Vinegar Hill. His newest work of non-fiction is On James Baldwin (Brandeis University Press\, August 2\, 2024)\, on the works of James Baldwin and their influence on his writing. \nOver the years\, Tóibín’s plays have been staged in Ireland and on Broadway. The Testament of Mary\, which Tóibín based on his novella of the same name\, was nominated for three Tony Awards\, including Best Play. \nTóibín has been honored with the E. M. Forster Award by the American Academy of Arts and Letters\, Irish PEN Award for contribution to Irish literature\, Dayton Literary Peace Prize Richard C. Holbrooke Distinguished Achievement Award\, Kenyon Review Award for Literary Achievement\, Premio Malaparte (Italy)\, Bob Hughes Lifetime Achievement Award\, David Cohen Prize for Literature\, and the Bodley Medal. In 2022 the Arts Council of Ireland appointed him Laureate for Irish Fiction 2022-2024. In 2024 he received the Medal of Honor for Achievement in Literature from the National Arts Club. \nTóibín is Irene and Sidney B. Silverman Professor of the Humanities in the Department of English and Comparative Literature at Columbia University. He has curated exhibits for the Morgan Library & Museum in Manhattan\, and\, with his agent\, Peter Straus\, runs a small publishing imprint in Dublin\, Tuskar Rock Press. \nColm Tóibín lives in Ireland and the United States.
URL:https://fis.princeton.edu/event/reading-by-colm-toibin-sp-25/
LOCATION:James Stewart Film Theater\, 185 Nassau Street\, Princeton\, NJ\, 08544\, United States
CATEGORIES:Reading
END:VEVENT
END:VCALENDAR