BEGIN:VCALENDAR
VERSION:2.0
PRODID:-//The Fund for Irish Studies at Princeton University - ECPv6.6.4.2//NONSGML v1.0//EN
CALSCALE:GREGORIAN
METHOD:PUBLISH
X-ORIGINAL-URL:https://fis.princeton.edu
X-WR-CALDESC:Events for The Fund for Irish Studies at Princeton University
REFRESH-INTERVAL;VALUE=DURATION:PT1H
X-Robots-Tag:noindex
X-PUBLISHED-TTL:PT1H
BEGIN:VTIMEZONE
TZID:America/New_York
BEGIN:DAYLIGHT
TZOFFSETFROM:-0500
TZOFFSETTO:-0400
TZNAME:EDT
DTSTART:20250309T070000
END:DAYLIGHT
BEGIN:STANDARD
TZOFFSETFROM:-0400
TZOFFSETTO:-0500
TZNAME:EST
DTSTART:20251102T060000
END:STANDARD
END:VTIMEZONE
BEGIN:VEVENT
DTSTART;TZID=America/New_York:20250320T170000
DTEND;TZID=America/New_York:20250320T170000
DTSTAMP:20260425T152118
CREATED:20250214T171801Z
LAST-MODIFIED:20250214T171801Z
UID:1808-1742490000-1742490000@fis.princeton.edu
SUMMARY:Reading by Niall Williams
DESCRIPTION:A reading by Irish novelist and playwright Niall Williams\, author of several novels\, including This is Happiness\, History of the Rain\, and the recently published Time of the Child. Cosponsored by Princeton’s Humanities Council and Department of English. \nThe Fund for Irish Studies Series is co-chaired by Jane Cox and Robert Spoo\, Princeton’s Leonard L. Milberg ’53 Professor in Irish Letters. \nAbout Niall Williams\nPhoto Credit: John Kelly\nNiall Williams was born in Dublin. He is the author of ten novels\, including History of the Rain\, which was longlisted for the Booker Prize\, and Four Letters of Love\, which will soon be a major motion picture starring Pierce Brosnan\, Helena Bonham Carter\, and Gabriel Byrne. His 2019 novel\, This Is Happiness\, was shortlisted for the Irish Book Awards Book of the Year and longlisted for The Walter Scott Prize. His latest novel\, Time of the Child\, was published in the U.S. in November. He lives in Kiltumper in County Clare\, Ireland. \nAdmission & Details\nThe reading is free and open to the public; no advance tickets or registration required. \nDirections\nGet directions to Labyrinth Bookstore\, located at 122 Nassau Street in Princeton. \nAccessibility\nLabyrinth Books is an accessible venue. Visit our Venues and Studios section for accessibility information at our various locations. Guests in need of access accommodations are invited to contact the Lewis Center at 609-258-5262 or email LewisCenter@princeton.edu at least one week in advance of the event date.
URL:https://fis.princeton.edu/event/reading-by-niall-williams/
LOCATION:Labyrinth Books\, 122 Nassau Street\, Princeton\, NJ\, 08544\, United States
CATEGORIES:Reading
END:VEVENT
END:VCALENDAR