BEGIN:VCALENDAR
VERSION:2.0
PRODID:-//The Fund for Irish Studies at Princeton University - ECPv6.6.4.2//NONSGML v1.0//EN
CALSCALE:GREGORIAN
METHOD:PUBLISH
X-WR-CALNAME:The Fund for Irish Studies at Princeton University
X-ORIGINAL-URL:https://fis.princeton.edu
X-WR-CALDESC:Events for The Fund for Irish Studies at Princeton University
REFRESH-INTERVAL;VALUE=DURATION:PT1H
X-Robots-Tag:noindex
X-PUBLISHED-TTL:PT1H
BEGIN:VTIMEZONE
TZID:America/New_York
BEGIN:DAYLIGHT
TZOFFSETFROM:-0500
TZOFFSETTO:-0400
TZNAME:EDT
DTSTART:20200308T070000
END:DAYLIGHT
BEGIN:STANDARD
TZOFFSETFROM:-0400
TZOFFSETTO:-0500
TZNAME:EST
DTSTART:20201101T060000
END:STANDARD
END:VTIMEZONE
BEGIN:VEVENT
DTSTART;TZID=America/New_York:20201120T163000
DTEND;TZID=America/New_York:20201120T173000
DTSTAMP:20260424T110505
CREATED:20201027T182457Z
LAST-MODIFIED:20201103T205142Z
UID:1585-1605889800-1605893400@fis.princeton.edu
SUMMARY:Lecture by Patrick Radden Keefe
DESCRIPTION:Bestselling author and staff writer at The New Yorker Patrick Radden Keefe delivers a lecture on “Say Nothing: A true Story of Murder and Memory in Northern Ireland” as part of Princeton University’s 2020-21 Fund for Irish Studies series. \nKeefe’s talk focuses on his international bestseller\, Say Nothing: A True Story of Murder and Memory in Northern Ireland\, his true crime narrative on the bitter conflict in Northern Ireland and its aftermath. He uses the abduction and murder case of Jean McConville\, a 38-year-old mother of ten who was dragged from her Belfast home by masked intruders\, as a starting point for the tale of a society wracked by violent guerrilla warfare\, a war whose consequences have never been reckoned with. \nKeefe’s work at The New Yorker has received the National Magazine Award for Feature Writing and twice been nominated for the National Magazine Award for Reporting. Say Nothing received the Orwell Prize for Political Writing and the National Book Critics Circle Award and was selected by Entertainment Weekly as one of the 10 Best Nonfiction Books of the Decade. Keefe is also the creator and host of the eight-part podcast Wind of Change. His new book about the Sackler family and the opioid crisis will be published next year. \nJOIN THE EVENT\nThis virtual event is free and open to the public. Join the symposium via Zoom Webinar; registration required. \nREGISTER ON ZOOM \nACCESSIBILITY\nIf you are in need of access accommodations in order to participate in this event\, please contact the Lewis Center at 609-258-5262 or email LewisCenter@princeton.edu at least 2 weeks in advance of the event date. \n  \n\nThe Fund for Irish Studies affords all Princeton students\, and the community at large\, a wider and deeper sense of the languages\, literatures\, drama\, visual arts\, history\, politics\, and economics not only of Ireland but of “Ireland in the world.” The series is produced by the Lewis Center for the Arts and the 2020-21 edition of the series is organized by Paul Muldoon. \nThe Fund for Irish Studies is generously sponsored by the Durkin Family Trust and the James J. Kerrigan\, Jr. ’45 and Margaret M. Kerrigan Fund for Irish Studies.
URL:https://fis.princeton.edu/event/lecture-by-patrick-radden-keefe/
LOCATION:Online
CATEGORIES:Virtual Lecture
END:VEVENT
BEGIN:VEVENT
DTSTART;TZID=America/New_York:20201113T163000
DTEND;TZID=America/New_York:20201113T173000
DTSTAMP:20260424T110505
CREATED:20200810T185644Z
LAST-MODIFIED:20201103T203902Z
UID:1579-1605285000-1605288600@fis.princeton.edu
SUMMARY:Symposium on "The 175th Anniversary of Frederick Douglass’s Tour of Ireland"
DESCRIPTION:On November 13\, Professor of History Christine Kinealy (Quinnipiac University)\, author Colum McCann (author of TransAtlantic)\, and Assistant Professor of English and African American Studies Autumn Womack (Princeton University) lead a symposium on “The 175th Anniversary of Frederick Douglass’s Tour of Ireland\,” moderated by Paul Muldoon\, Howard G. B. Clark ’21 Professor at Princeton University. Part of Princeton University’s 2020-21 Fund for Irish Studies series. \nThe symposium explores the four months Douglass spent in Ireland in 1845\, an experience he described as “transformative.” Douglass was an American social reformer\, abolitionist\, orator\, writer\, statesman\, and former enslaved person. Of his time in Ireland\, Douglass reported that for the first time in his life he felt like a man\, and not a chattel. He became a spokesperson for the abolition movement during his Irish tour\, but by the time he left the country in early January 1846\, he believed that the cause of the enslaved was the cause of the oppressed everywhere. \nJOIN THE EVENT\nThis virtual event is free and open to the public. Join the symposium via Zoom Webinar; registration required. \nREGISTER ON ZOOM \nACCESSIBILITY\nIf you are in need of access accommodations in order to participate in this event\, please contact the Lewis Center at 609-258-5262 or email LewisCenter@princeton.edu at least 2 weeks in advance of the event date. \n  \n\nThe Fund for Irish Studies affords all Princeton students\, and the community at large\, a wider and deeper sense of the languages\, literatures\, drama\, visual arts\, history\, politics\, and economics not only of Ireland but of “Ireland in the world.” The series is produced by the Lewis Center for the Arts and the 2020-21 edition of the series is organized by Paul Muldoon. \nThe Fund for Irish Studies is generously sponsored by the Durkin Family Trust and the James J. Kerrigan\, Jr. ’45 and Margaret M. Kerrigan Fund for Irish Studies. \n\nABOUT THE GUEST SCHOLARS\nChristine Kinealy is Professor of History and Director of Ireland’s Great Hunger Institute at Quinnipiac University. At Trinity College Dublin\, she completed her doctorate on the introduction of the Poor Law to Ireland. She then worked in educational and research institutes in Dublin\, Belfast and Liverpool. \nShe has published extensively on the impact of the Great Irish Famine and has lectured on the relationship between poverty and famine in India\, Spain\, Canada\, France\, Finland and New Zealand. She also has spoken to invited audiences in the British Parliament and in the U.S. Congress. \nBased in the United States since 2007\, she was named one of the most influential Irish Americans in 2011 by “Irish America” Magazine. In 2013\, she received the Holyoke\, Mass. St. Patrick’s Day Parade’s Ambassador Award. In March 2014\, she was inducted into the Irish America Hall of Fame. \n  \nColum McCann is the award-winning author of three collections of short stories and seven novels\, including his most recent work\, Apeirogon (2020). His bestselling novel\, Let the Great World Spin (2009)\, won worldwide acclaim including the 2009 National Book Award in the U.S\, the 2010 Best Foreign Novel Award in China\, the International Impac Award 2011\, a literary award from the American Academy of Arts and Letters\, and several other major international literary prizes. His novel TransAtlantic was also an international sensation and became an immediate New York Times best-seller on its release in 2013. It\, too\, garnered several international awards including the Mondello Citta de Palermo Prize in Italy. \nBorn and raised in Dublin\, Ireland\, he is the recipient of international honors including a Chevalier des Arts et Lettres from the French government\, election to the Irish arts academy\, several European awards\, the 2010 Best Foreign Novel Award in China\, and an Oscar nomination. In 2017 he was elected to the American Academy of Arts. His work has been published in over 40 languages. He is the co-founder of the non-profit global story exchange organisation\, Narrative 4\, and he teaches at the MFA program in Hunter College. He lives in New York with his wife\, Allison\, and their family. \n  \nAutumn Womack is Assistant Professor of English and African American Studies at Princeton University. She earned a PhD in English and Comparative Literature from Columbia University and an MA from The University of Maryland\, College Park. Womack’s research is located at the intersection of late nineteenth- and early twentieth-century African American literary culture\, visual studies\, and print culture. She is currently at work on two book projects. The first\, Un-discipling Data: Race\, Visuality\, and the Making of African American Literary Aesthetics\, 1880-1930 charts the relationship between emergent visual technologies – such as photography\, motion pictures\, and social surveys — and black literary and intellectual culture. The Reprint Revolution\, her second book project\, considers the circulation politics and practices that brought many nineteenth-century African American literary texts into the marketplace in the 1960s. At Princeton she teaches classes on 19th and 20th century African American literature and the history of race and media. In keeping with her investment in archival research\, her course “Toni Morrison and the Ethics of Reading” makes extensive use of the University’s collections. Womack has been the recipient of numerous awards and fellowships\, including a postdoctoral fellowship at Rutgers University’s Department of English and a faculty fellowship at Penn State’s Center for the History of Information. \nProfessor Womack’s work has been published in Black Camera: An International Film Journal\, American Literary History\, Women and Performance\, J19: A Journal of 19th Century Americanists\, andThe Paris Review of Books. An essay on the cultural history of Arno Press and the utility of the black past is forthcoming in American Literary History\, while new essays on Frederick Douglass\, W.E.B. DuBois\, and the pre-history of data visualization will appear in edited volumes. She serves on the editorial board of The Langston Hughes Review and Aster(ix) Journal. \n 
URL:https://fis.princeton.edu/event/symposium-on-the-175th-anniversary-of-frederick-douglasss-tour-of-ireland/
LOCATION:Online
CATEGORIES:Symposium,Virtual Lecture
ORGANIZER;CN="Mary O'Connor":MAILTO:oconnorm@princeton.edu
END:VEVENT
BEGIN:VEVENT
DTSTART;TZID=America/New_York:20200918T163000
DTEND;TZID=America/New_York:20200918T173000
DTSTAMP:20260424T110505
CREATED:20200810T004756Z
LAST-MODIFIED:20200908T202146Z
UID:1573-1600446600-1600450200@fis.princeton.edu
SUMMARY:"Sweet Dancers: An Illustrated Talk on Irish Dance" by Deirdre Mulrooney
DESCRIPTION:Photo of Deirdre Mulrooney by Ishmael Claxton\nDeirdre Mulrooney\, dance historian\, documentary filmmaker\, author of Irish Moves\, an illustrated history of dance and physical theatre in Ireland\, and host of Dance Ireland’s 30th Anniversary podcasts presents a virtual illustrated talk on Irish Dance. Followed by an audience Q&A. \nas a part of Princeton University’s 2020-21 Fund for Irish Studies series. \nJOIN THE EVENT\nThis virtual event is free and open to the public; no registration required. \nJoin the lecture on Zoom\nMeeting ID: 971 9158 0361 \nABOUT THE SPEAKER\nDeirdre is author of Irish Moves\, an illustrated history of dance and physical theatre in Ireland (2006)\, and Orientalism\, Orientation\, and The Nomadic Work of Pina Bausch (2002). Deirdre has contributed to anthologies\, and to several books on theatre and dance. A dance historian\, as well as her feature radio documentary and short dance film reclaiming Lucia Joyce’s modern dance career\, Deirdre has a forthcoming long scholarly essay on the subject. She hosted Dance Ireland’s 30th Anniversary podcasts. She is a sporadic contributor to RTE Sunday Miscellany\, and has penned multifarious Arts journalism and writing over many years. Deirdre produces and directs her own creative film documentaries including ‘Dance Emergency’ (TG4)\, ‘1943 – A Dance Odyssey’ (RTE)\, the short dance film ‘Lucia Joyce: Full Capacity’\, ‘TRUE NORTH’\, and many more BAI-funded\, commissioned\, and Indie projects with her own production company\, Out There Productions. In addition to her original academic work\, teaching\, broadcasting\, and original feature radio documentaries\, Deirdre occasionally curates exhibitions. Deirdre curated Mother Tongue at Kilkee’s Cultúrlann Sweeney\, which is scheduled to travel to UCD Festival\, where she is a UCD Creative Fellow. \nABOUT THE FUND FOR IRISH STUDIES\nThe Fund for Irish Studies affords all Princeton students\, and the community at large\, a wider and deeper sense of the languages\, literatures\, drama\, visual arts\, history\, politics\, and economics not only of Ireland but of “Ireland in the world.” The series is produced by the Lewis Center for the Arts and the 2020-21 edition of the series is organized by Paul Muldoon. \nThe Fund for Irish Studies is generously sponsored by the Durkin Family Trust and the James J. Kerrigan\, Jr. ’45 and Margaret M. Kerrigan Fund for Irish Studies.
URL:https://fis.princeton.edu/event/sweet-dancers-illustrated-talk-on-irish-dance-deirdre-mulrooney/
LOCATION:Online
CATEGORIES:Virtual Lecture
ORGANIZER;CN="Mary O'Connor":MAILTO:oconnorm@princeton.edu
END:VEVENT
END:VCALENDAR